BEGIN:VCALENDAR
VERSION:2.0
PRODID:-//Miroir de l&#039;âme - ECPv6.0.8//NONSGML v1.0//EN
CALSCALE:GREGORIAN
METHOD:PUBLISH
X-WR-CALNAME:Miroir de l&#039;âme
X-ORIGINAL-URL:https://guillaumetendron.com
X-WR-CALDESC:évènements pour Miroir de l&#039;âme
REFRESH-INTERVAL;VALUE=DURATION:PT1H
X-Robots-Tag:noindex
X-PUBLISHED-TTL:PT1H
BEGIN:VTIMEZONE
TZID:Europe/Paris
BEGIN:DAYLIGHT
TZOFFSETFROM:+0100
TZOFFSETTO:+0200
TZNAME:CEST
DTSTART:20230326T010000
END:DAYLIGHT
BEGIN:STANDARD
TZOFFSETFROM:+0200
TZOFFSETTO:+0100
TZNAME:CET
DTSTART:20231029T010000
END:STANDARD
END:VTIMEZONE
BEGIN:VEVENT
DTSTART;TZID=Europe/Paris:20230326T123000
DTEND;TZID=Europe/Paris:20230326T130000
DTSTAMP:20260422T232559
CREATED:20230324T174040Z
LAST-MODIFIED:20230324T174414Z
UID:981-1679833800-1679835600@guillaumetendron.com
SUMMARY:Lectures en Normand - Festival "Nature et Patrimoine" - Trévières - 26 03 2023
DESCRIPTION:Venez nous rejoindre pour passer une journée autour du patrimoine normand.\nNous y ferons une lecture en normand à 12h30 sur la place du Cinéma. \nVenez vo z’accachir d’aveu nos pouor entendre prechi l’nourmand. \nhttps://www.trevieres.com/festival-patrimoine-et-nature
URL:https://guillaumetendron.com/index.php/event/lectures-en-normand-festival-nature-et-patrimoine-trevieres-26-03-2023/
LOCATION:Trévières 14710\, Place du cinéma\, Trévières\, Normandie\, 14710\, France
CATEGORIES:Lecture en normand
ATTACH;FMTTYPE=image/jpeg:https://guillaumetendron.com/wp-content/uploads/2023/03/affiches-trevieres.jpg
ORGANIZER;CN="Mairie%20de%20Tr%C3%A9vi%C3%A8res":MAILTO:mairie@ville-trevieres.fr
END:VEVENT
END:VCALENDAR