BEGIN:VCALENDAR
VERSION:2.0
PRODID:-//Miroir de l&#039;âme - ECPv6.0.8//NONSGML v1.0//EN
CALSCALE:GREGORIAN
METHOD:PUBLISH
X-ORIGINAL-URL:https://guillaumetendron.com
X-WR-CALDESC:évènements pour Miroir de l&#039;âme
REFRESH-INTERVAL;VALUE=DURATION:PT1H
X-Robots-Tag:noindex
X-PUBLISHED-TTL:PT1H
BEGIN:VTIMEZONE
TZID:Europe/Paris
BEGIN:DAYLIGHT
TZOFFSETFROM:+0100
TZOFFSETTO:+0200
TZNAME:CEST
DTSTART:20230326T010000
END:DAYLIGHT
BEGIN:STANDARD
TZOFFSETFROM:+0200
TZOFFSETTO:+0100
TZNAME:CET
DTSTART:20231029T010000
END:STANDARD
END:VTIMEZONE
BEGIN:VEVENT
DTSTART;TZID=Europe/Paris:20230912T180000
DTEND;TZID=Europe/Paris:20230912T210000
DTSTAMP:20260422T140330
CREATED:20230610T204323Z
LAST-MODIFIED:20230610T204323Z
UID:1336-1694541600-1694552400@guillaumetendron.com
SUMMARY:Soirée Vinyles héritage
DESCRIPTION:Vous aimez le son du vinyle et êtes nostalgique des soirées passées entre amis à écouter vos 33 et 45 tours. \nApportez vos disques préférés  pour les écouter ensemble et partager un bon moment
URL:https://guillaumetendron.com/index.php/event/soiree-vinyles-heritage/
LOCATION:Médiathèque intercommunale de Creully sur Seulles\, 6 rue de Bretteville\, Creully sur Seulles\, Normandie\, 14480\, France
END:VEVENT
END:VCALENDAR