BEGIN:VCALENDAR
VERSION:2.0
PRODID:-//Miroir de l&#039;âme - ECPv6.0.8//NONSGML v1.0//EN
CALSCALE:GREGORIAN
METHOD:PUBLISH
X-ORIGINAL-URL:https://guillaumetendron.com
X-WR-CALDESC:évènements pour Miroir de l&#039;âme
REFRESH-INTERVAL;VALUE=DURATION:PT1H
X-Robots-Tag:noindex
X-PUBLISHED-TTL:PT1H
BEGIN:VTIMEZONE
TZID:Europe/Paris
BEGIN:DAYLIGHT
TZOFFSETFROM:+0100
TZOFFSETTO:+0200
TZNAME:CEST
DTSTART:20240331T010000
END:DAYLIGHT
BEGIN:STANDARD
TZOFFSETFROM:+0200
TZOFFSETTO:+0100
TZNAME:CET
DTSTART:20241027T010000
END:STANDARD
END:VTIMEZONE
BEGIN:VEVENT
DTSTART;TZID=Europe/Paris:20240315T183000
DTEND;TZID=Europe/Paris:20240315T203000
DTSTAMP:20260422T044209
CREATED:20240207T172006Z
LAST-MODIFIED:20240207T172006Z
UID:2082-1710527400-1710534600@guillaumetendron.com
SUMMARY:Café lecture suréaliste
DESCRIPTION:Café lecture – scène ouverte. \nVenez à la Ferme culturelle du Bessin autour d’un café et d’un bon feu de cheminée partager vos poèmes\, textes\, billet d’humour ou d’humeur  ou extraits de livres surréalistes\, ambiance dada et zazous garantie.  Gens sérieux s’abstenir.
URL:https://guillaumetendron.com/index.php/event/cafe-lecture-surealiste/
LOCATION:Ferme culturelle du Bessin\, 39 chemin de Varembert\, Creully sur Seulles\, 14480
ORGANIZER;CN="Ferme%20culturelle%20dy%20Bessin":MAILTO:fcb@varembert.com
END:VEVENT
END:VCALENDAR