BEGIN:VCALENDAR
VERSION:2.0
PRODID:-//Miroir de l&#039;âme - ECPv6.0.8//NONSGML v1.0//EN
CALSCALE:GREGORIAN
METHOD:PUBLISH
X-WR-CALNAME:Miroir de l&#039;âme
X-ORIGINAL-URL:https://guillaumetendron.com
X-WR-CALDESC:évènements pour Miroir de l&#039;âme
REFRESH-INTERVAL;VALUE=DURATION:PT1H
X-Robots-Tag:noindex
X-PUBLISHED-TTL:PT1H
BEGIN:VTIMEZONE
TZID:Europe/Paris
BEGIN:DAYLIGHT
TZOFFSETFROM:+0100
TZOFFSETTO:+0200
TZNAME:CEST
DTSTART:20240331T010000
END:DAYLIGHT
BEGIN:STANDARD
TZOFFSETFROM:+0200
TZOFFSETTO:+0100
TZNAME:CET
DTSTART:20241027T010000
END:STANDARD
END:VTIMEZONE
BEGIN:VEVENT
DTSTART;TZID=Europe/Paris:20241108T183000
DTEND;TZID=Europe/Paris:20241108T223000
DTSTAMP:20260421T140607
CREATED:20241104T142305Z
LAST-MODIFIED:20241104T142432Z
UID:2296-1731090600-1731105000@guillaumetendron.com
SUMMARY:Café jukebox vinyles vendredi soir
DESCRIPTION:Café jukebox vinyles vendredi soir à partir de 18h30 à la FCB….les turn tables vont fumer. \nAmenez vos vinyles pour partager et venez écouter ou découvrir le top du rock\, disco\, variétés .
URL:https://guillaumetendron.com/index.php/event/cafe-jukebox-vinyles-vendredi-soir/
LOCATION:Ferme culturelle du Bessin\, 39 chemin de Varembert\, Creully sur Seulles\, 14480
ATTACH;FMTTYPE=image/jpeg:https://guillaumetendron.com/wp-content/uploads/2024/11/Affiche-Cafe-Juke-Box-Varietes.jpg
ORGANIZER;CN="Ferme%20culturelle%20dy%20Bessin":MAILTO:fcb@varembert.com
END:VEVENT
BEGIN:VEVENT
DTSTART;TZID=Europe/Paris:20241121T190000
DTEND;TZID=Europe/Paris:20241121T223000
DTSTAMP:20260421T140607
CREATED:20241114T142146Z
LAST-MODIFIED:20241114T142146Z
UID:2314-1732215600-1732228200@guillaumetendron.com
SUMMARY:Soirée - jukebox - vinyles - ô comptoir des potes - Creully - 21 novermbre
DESCRIPTION:A l’occasion du Bojo nouveau\, venez ô comptoir des potes  faire plaisir à vos cages à miel . A l’ardoise\, au choix : Rock 50\, 60\, 70\, Disco et variété française et internationale (années 80-90) vous seront servies sur une galette noire.
URL:https://guillaumetendron.com/index.php/event/soiree-jukebox-vinyles-o-comptoir-des-potes-creully-21-novermbre/
LOCATION:Comptoir des potes\, 3 Rte de Saint-Gabriel\, Creully sur Seulles\, 14480\, France
ATTACH;FMTTYPE=image/jpeg:https://guillaumetendron.com/wp-content/uploads/2024/11/Affiche-Cafe-Juke-Box-Varietes.jpg
END:VEVENT
END:VCALENDAR